BEGIN:VCALENDAR
VERSION:2.0
PRODID:-//Joaquín Amenábar - ECPv6.15.20//NONSGML v1.0//EN
CALSCALE:GREGORIAN
METHOD:PUBLISH
X-WR-CALNAME:Joaquín Amenábar
X-ORIGINAL-URL:https://joaquinamenabar.com/tr
X-WR-CALDESC:Joaquín Amenábar için etkinlikler
REFRESH-INTERVAL;VALUE=DURATION:PT1H
X-Robots-Tag:noindex
X-PUBLISHED-TTL:PT1H
BEGIN:VTIMEZONE
TZID:Europe/Paris
BEGIN:DAYLIGHT
TZOFFSETFROM:+0100
TZOFFSETTO:+0200
TZNAME:CEST
DTSTART:20250330T010000
END:DAYLIGHT
BEGIN:STANDARD
TZOFFSETFROM:+0200
TZOFFSETTO:+0100
TZNAME:CET
DTSTART:20251026T010000
END:STANDARD
BEGIN:DAYLIGHT
TZOFFSETFROM:+0100
TZOFFSETTO:+0200
TZNAME:CEST
DTSTART:20260329T010000
END:DAYLIGHT
BEGIN:STANDARD
TZOFFSETFROM:+0200
TZOFFSETTO:+0100
TZNAME:CET
DTSTART:20261025T010000
END:STANDARD
BEGIN:DAYLIGHT
TZOFFSETFROM:+0100
TZOFFSETTO:+0200
TZNAME:CEST
DTSTART:20270328T010000
END:DAYLIGHT
BEGIN:STANDARD
TZOFFSETFROM:+0200
TZOFFSETTO:+0100
TZNAME:CET
DTSTART:20271031T010000
END:STANDARD
END:VTIMEZONE
BEGIN:VEVENT
DTSTART;TZID=Europe/Paris:20260404T113000
DTEND;TZID=Europe/Paris:20260405T163000
DTSTAMP:20260424T110413
CREATED:20260124T082725Z
LAST-MODIFIED:20260202T155936Z
UID:17897-1775302200-1775406600@joaquinamenabar.com
SUMMARY:[:en]Tango Musicality Workshops - Eugene\, OR- Joaquín Amenábar[:es]Tango Musicality Workshops - Eugene\, OR- Joaquín Amenábar[:de]Tango Musicality Workshops - Eugene\, OR- Joaquín Amenábar[:zh]Tango Musicality Workshops - Eugene\, OR- Joaquín Amenábar[:fr]Tango Musicality Workshops - Eugene\, OR- Joaquín Amenábar[:it]Tango Musicality Workshops - Eugene\, OR- Joaquín Amenábar[:kr]Tango Musicality Workshops - Eugene\, OR- Joaquín Amenábar[:tr]Tango Musicality Workshops - Eugene\, OR- Joaquín AmeTango Musicality Workshops - Eugene\, OR- Joaquín Amenábarnábar[:]
DESCRIPTION:Tango Musicality Workshops\nJoaquín Amenábar -  Eugene\, OR - April 4/5th- 2026\n\n								 								 								 								 								 								 								 								 								 								 								 																						Eugene\, OR  - General Information\n\n	LEARNING FROM THE SOURCE \n  \nJOAQUIN AMENABAR \n  \nAuthor of \n  \nTANGO LET’S DANCE TO THE MUSIC! \n  \nIn Eugene\, Oregon A FULL WEEKEND OF MUSICALITY: \n  \n6 WORKSHOPS PLUS PRACTICAS ON APRIL 4TH & 5TH\, 2026 Private Lessons available April 6th & 7th (see schedule below) \n  \nThis is a unique opportunity to delve into the foundation of the Tango\, Milonga and Argentine Waltz. \n  \n• Maestro Amenabar will guide a comprehensive study of tango music. You will connect with areas of tango you may not have noticed before. • You’ll get a clear picture of the foundational principles for tango\, waltz and milonga which will facilitate your interpretation when you dance. • To learn from one who is a professor of tango music\, a bandoneon player\, a dancer\, an orchestra director\, and a scholar with an original methodology to teach music to tango dancers with no musical training is a rare gift. • Guided by his unique approach\, we will improve not only our ability to decipher what we hear in tango\, but also in our roles as leads and follows. • We will explore not just the rhythm\, but also what makes tango unique…the melody. \n  \n\n\n\nLocations \nFor Saturday\, April 4th River Road Parks and Recreation 1400 Lake Drive Eugene\, OR 97404 \nFor Sunday\, April 5thRiver Road Annex1055 River RoadEugene\, OR 97404\n\n\n\nOverflow parking for River Rd Annex is just north at the church parking lot\, 1105 River Road (before Arbor Dr). \n  \nJOAQUIN AMENABAR WORKSHOP AND PRACTICA SCHEDULE \n  \nSATURDAY\, APRIL 4TH \n  \nWorkshop #1) 11:30 am – 12:45 pm Dancing to the Basic Rhythm in Tango – The three basic rhythmic units: simple-; double-; and half-time step. \n  \n15-minute break \n  \nWorkshop #2) 1:00 – 2:15 pm Dancing to the Melody in Tango – Melodic Rhythm: What is it? How do we dance to it? \n  \n15-minute break \n  \nWorkshop #3) 2:30 – 3:45 pm Elements of the Tango Style – Fraseos\, Cadencias\, Arrastres\, different types of accents: How do we move according to the era and orchestra style? \n  \nPRACTICA: 3:45 – 4:30 pm \n  \nSUNDAY APRIL 5TH \n  \nWorkshop #4) 11:30 am – 12:45 pm Roles Within the Dancing Couple – Dancing to the basic rhythm or melody: Different functions of embrace; predictability of the movements of the leader from the part of the follower; and relevance of the era and orchestra style. \n  \n15-minute break \n  \nWorkshop #5) 1:00 – 2:15 pm “Tango-Vals” - Rhythmic Units of the “Tango-Vals”: Different types of doubletime in the waltz and recognizing them in the melody. \n  \n15-minute break \n  \nWorkshop #6) 2:30 – 3:45 pm “La Milonga” Level 1: Rhythmic Difference Between Tango and Milonga - Rhythmic units of milonga: Simple-time; double-time; “traspie”; and “corrida.” \n  \nPRACTICA: 3:45 – 4:30 pm \n  \n[No regular beginning and intermediate class on April 5th. But our usual Milonguita will be held 5 – 7 pm. $10] \n  \nWORKSHOPS\, PRACTICA\, & PRIVATE LESSON PRICES \n  \n$150/person if you pre-pay for all 6 workshops and the 2 practicas by or before February 28th; or \n  \n$30/person/workshop if you pre-pay for single workshops; or $35/person/workshop at the door. \n  \nThe Practica is free if 3 workshops are taken on the same day. Otherwise it’s $10. $100/hr for each private lesson. Private lesson dates are April 6th & 7th. \n  \nFor questions and reservations contact Marisela at tangobohemio@gmail.com \n  \nPay with cash or check (to Marisela Rizik). Payment may be mailed to P.O. Box 374\, Eugene\, OR 97440. \n  \nFROM THE MAESTRO \n  \nThese classes are the basic set of six classes that Joaquin always teaches when meeting a tango community for the first time. The concept of “basic” here is not related to the level of the dancer. It is in the sense of the “basic” information on musicality that every tango dancer must have to progress in the following ways: forms and structures\, different types of syncopation\, Milonga Level II\, and all the particular tango classes on different eras and orchestra styles. \n  \nMore than often than not\, dancers who have danced for decades have not had access to lots of the information given in these workshops. That is why it is SO IMPORTANT to understand the meaning of the word “basic” here. \n  \nAll the workshops are thought for tango dancers that do not have any musical education\, so you don’t need to know music or be able to read music to take these workshops. \n  \nYOU DO NOT NEED A PARTNER FOR THESE WORKSHOPS. \n  \nThe classes do have some explanations\, but in each case we will dance and do the things that are being explained in a practical way. \n  \nQuestions? Write to Marisela at Tangobohemio@gmail.com \n  \nWant to prepare for the maestro? Check his website for his two books Tango\, Let’s Dance to the Music! Volumes 1 & 2 \n  \n[Joaquin Amenabar website: https://joaquinamenabar.com] \n\n\n\n	\nMeanwhile...\n\n \n\nand keep on dancing ! 
URL:https://joaquinamenabar.com/tr/event/tango-musicality-workshops-eugene-or-joaquin-amenabar/
LOCATION:Saturday: River Road Park and Recreation  – Sunday: River Road Annex\, Sat: 1400 Lake Drive - Sunday: 1055 River Road \, Eugene\, OR - 97044\, Eugene\, OR\, OR\, 97404\, United States
CATEGORIES:,,Musicality Workshops
ATTACH;FMTTYPE=image/jpeg:https://joaquinamenabar.com/wp-content/uploads/Try-3.jpg
ORGANIZER;CN="Marisela Rizik-  Tango Bohemio":MAILTO:tangobohemio@gmail.com
END:VEVENT
END:VCALENDAR