BEGIN:VCALENDAR
VERSION:2.0
PRODID:-//Joaquín Amenábar - ECPv6.15.20//NONSGML v1.0//EN
CALSCALE:GREGORIAN
METHOD:PUBLISH
X-WR-CALNAME:Joaquín Amenábar
X-ORIGINAL-URL:https://joaquinamenabar.com
X-WR-CALDESC:Events for Joaquín Amenábar
REFRESH-INTERVAL;VALUE=DURATION:PT1H
X-Robots-Tag:noindex
X-PUBLISHED-TTL:PT1H
BEGIN:VTIMEZONE
TZID:Pacific/Auckland
BEGIN:STANDARD
TZOFFSETFROM:+1300
TZOFFSETTO:+1200
TZNAME:NZST
DTSTART:20230401T140000
END:STANDARD
BEGIN:DAYLIGHT
TZOFFSETFROM:+1200
TZOFFSETTO:+1300
TZNAME:NZDT
DTSTART:20230923T140000
END:DAYLIGHT
BEGIN:STANDARD
TZOFFSETFROM:+1300
TZOFFSETTO:+1200
TZNAME:NZST
DTSTART:20240406T140000
END:STANDARD
BEGIN:DAYLIGHT
TZOFFSETFROM:+1200
TZOFFSETTO:+1300
TZNAME:NZDT
DTSTART:20240928T140000
END:DAYLIGHT
BEGIN:STANDARD
TZOFFSETFROM:+1300
TZOFFSETTO:+1200
TZNAME:NZST
DTSTART:20250405T140000
END:STANDARD
BEGIN:DAYLIGHT
TZOFFSETFROM:+1200
TZOFFSETTO:+1300
TZNAME:NZDT
DTSTART:20250927T140000
END:DAYLIGHT
END:VTIMEZONE
BEGIN:VEVENT
DTSTART;TZID=Pacific/Auckland:20241206T180000
DTEND;TZID=Pacific/Auckland:20241208T203000
DTSTAMP:20260426T014320
CREATED:20241103T184005Z
LAST-MODIFIED:20241122T202200Z
UID:11717-1733508000-1733689800@joaquinamenabar.com
SUMMARY:Tango-Musikalität Workshops - Hamburg 6./7./8. Dezember 2024
DESCRIPTION: Stuttgart \, DE - 13. November 2024 - 19:30 hs\n\n\n								 								 												 								 												 		\n\n	In der Zwischenzeit \nDas Buch Tango: Zur Musik tanzen! kaufen  \nund weiter musikalisch tanzen ! 
URL:https://joaquinamenabar.com/event/tango-musikalitat-workshops-hamburg-6-7-8-dezember-2024/
LOCATION:Tango-Studio “El Abrazo”\, Beerenweg 1 d\, Hamburg\, Hamburg\, 22761
CATEGORIES:Musicality Workshops
ATTACH;FMTTYPE=image/jpeg:https://joaquinamenabar.com/wp-content/uploads/At-the-board-500X500.jpg
ORGANIZER;CN="Joaqu%C3%ADn Amen%C3%A1bar":MAILTO:joaquin@joaquinamenabar.com
END:VEVENT
BEGIN:VEVENT
DTSTART;TZID=Pacific/Auckland:20241113T193000
DTEND;TZID=Pacific/Auckland:20241113T210000
DTSTAMP:20260426T014320
CREATED:20241105T230600Z
LAST-MODIFIED:20241106T035342Z
UID:11675-1731526200-1731531600@joaquinamenabar.com
SUMMARY:[:en]Tango: Zur Musik tanzen ! - Band II -  Stuttgart \, DE[:es]Tango: Zur Musik tanzen ! - Band II -  Joaquín Amenábar[:de]Tango: Zur Musik tanzen ! - Band II -  Joaquín Amenábar[:zh]Tango: Zur Musik tanzen ! - Band II -  Joaquín Amenábar[:fr]Tango: Zur Musik tanzen ! - Band II -  Joaquín Amenábar[:it]Tango: Zur Musik tanzen ! - Band II -  Joaquín Amenábar[:kr]Tango: Zur Musik tanzen ! - Band II -  Joaquín Amenábar[:tr]Tango: Zur Musik tanzen ! - Band II -  Joaquín Amenábar[:]
DESCRIPTION: Stuttgart \, DE - 13. November 2024 - 19:30 hs\n\n\n								 								 												 								 												 		\n\n	In der Zwischenzeit \nDas Buch Tango: Zur Musik tanzen! kaufen  \nund weiter musikalisch tanzen ! 
URL:https://joaquinamenabar.com/event/tango-zur-musik-tanzen-band-ii-joaquin-amenabar/
LOCATION:Waldheim Stuttgart e.V.Clara-Zetkin-Haus\, Gorch-Fock-Str. 26\, Stuttgart\, 70619
CATEGORIES:Musicality Workshops
ATTACH;FMTTYPE=image/jpeg:https://joaquinamenabar.com/wp-content/uploads/Try-3.jpg
ORGANIZER;CN="Joaqu%C3%ADn Amen%C3%A1bar":MAILTO:joaquin@joaquinamenabar.com
END:VEVENT
END:VCALENDAR