BEGIN:VCALENDAR
VERSION:2.0
PRODID:-//Joaquín Amenábar - ECPv6.15.20//NONSGML v1.0//EN
CALSCALE:GREGORIAN
METHOD:PUBLISH
X-WR-CALNAME:Joaquín Amenábar
X-ORIGINAL-URL:https://joaquinamenabar.com/tr
X-WR-CALDESC:Joaquín Amenábar için etkinlikler
REFRESH-INTERVAL;VALUE=DURATION:PT1H
X-Robots-Tag:noindex
X-PUBLISHED-TTL:PT1H
BEGIN:VTIMEZONE
TZID:Europe/Paris
BEGIN:DAYLIGHT
TZOFFSETFROM:+0100
TZOFFSETTO:+0200
TZNAME:CEST
DTSTART:20250330T010000
END:DAYLIGHT
BEGIN:STANDARD
TZOFFSETFROM:+0200
TZOFFSETTO:+0100
TZNAME:CET
DTSTART:20251026T010000
END:STANDARD
BEGIN:DAYLIGHT
TZOFFSETFROM:+0100
TZOFFSETTO:+0200
TZNAME:CEST
DTSTART:20260329T010000
END:DAYLIGHT
BEGIN:STANDARD
TZOFFSETFROM:+0200
TZOFFSETTO:+0100
TZNAME:CET
DTSTART:20261025T010000
END:STANDARD
BEGIN:DAYLIGHT
TZOFFSETFROM:+0100
TZOFFSETTO:+0200
TZNAME:CEST
DTSTART:20270328T010000
END:DAYLIGHT
BEGIN:STANDARD
TZOFFSETFROM:+0200
TZOFFSETTO:+0100
TZNAME:CET
DTSTART:20271031T010000
END:STANDARD
END:VTIMEZONE
BEGIN:VEVENT
DTSTART;TZID=Europe/Paris:20260228T110000
DTEND;TZID=Europe/Paris:20260301T180000
DTSTAMP:20260425T004024
CREATED:20251205T153359Z
LAST-MODIFIED:20260217T210549Z
UID:17019-1772276400-1772388000@joaquinamenabar.com
SUMMARY:Tango Musicality Workshops - Frankfurt\, DE - Joaquín Amenábar
DESCRIPTION:Tango Musicalität Workshops\nJoaquín Amenábar –  Frankfurt a.M.\, DE – 28.2./1.3. 2026\n\n\n\n\n\n\n\n\n\n								 								 								 								 								 								 								 								 								 																		\n\n\n\n\n\n\n\n\n\n\n\n\n\n\n\n \n\nIn der Zwischenzeit \nDas Buch Tango: Zur Musik tanzen! kaufen  \nund weiter musikalisch tanzen ! 
URL:https://joaquinamenabar.com/tr/event/tango-musicality-workshops-frankfurt-de-joaquin-amenabar/
LOCATION:Haus der Jugend (DJH) Kleiner Saal\, Deutschherrnufer 12 \, 60594\, Frankfurt am Main\, 60594\, Germany
CATEGORIES:,,Musicality Workshops
ATTACH;FMTTYPE=image/jpeg:https://joaquinamenabar.com/wp-content/uploads/Try-3.jpg
ORGANIZER;CN="Tatjana Heidrich":MAILTO:tatjanaheidrich@yahoo.de
END:VEVENT
END:VCALENDAR